BEGIN:VCALENDAR
VERSION:2.0
PRODID:-//DVRCV Training - ECPv4.9.12//NONSGML v1.0//EN
CALSCALE:GREGORIAN
METHOD:PUBLISH
X-WR-CALNAME:DVRCV Training
X-ORIGINAL-URL:https://training.dvrcv.org.au
X-WR-CALDESC:Events for DVRCV Training
BEGIN:VTIMEZONE
TZID:Australia/Melbourne
BEGIN:STANDARD
TZOFFSETFROM:+1100
TZOFFSETTO:+1000
TZNAME:AEST
DTSTART:20200404T160000
END:STANDARD
BEGIN:DAYLIGHT
TZOFFSETFROM:+1000
TZOFFSETTO:+1100
TZNAME:AEDT
DTSTART:20201003T160000
END:DAYLIGHT
END:VTIMEZONE
BEGIN:VEVENT
DTSTART;TZID=Australia/Melbourne:20200416T093000
DTEND;TZID=Australia/Melbourne:20200416T163000
DTSTAMP:20200226T124542
CREATED:20200213T063537Z
LAST-MODIFIED:20200213T063537Z
UID:1760-1587029400-1587054600@training.dvrcv.org.au
SUMMARY:Introduction to Preventing Violence Against Women (PVAW) – foundation course - CBD - 16 April 2020
DESCRIPTION: jQuery(function($){ $(".ax-course-details").find("div:empty").hide();jQuery(".ax-course-details").find("div > h2").closest("div").addClass("no-content").find("*:not(h2)\, div").parent("div").removeClass("no-content");jQuery("div.no-content").hide(); }); \nIntroduction to Preventing Violence Against Women (PVAW) – Foundation course\nPVAW-FC\n \n\n\n\nDo you understand the link between everyday sexism and violence against women? Are you passionate about creating a world free from violence against women but unsure where to begin? If this rings true\, then our new Introduction to Preventing Violence Against Women (PVAW) – foundation course is the program for you. Upon its completion you will have a toolkit of information and strategies to take action in your workplaces and everyday life\, or to kick start your career in preventing violence against women.\n \n\nIntroduction\n\nUnderstanding the link between gender inequality\, everyday sexism and violence against women can be challenging. From the outside\, the prevention world can look like a complex landscape\, filled with language and concepts leaving many of us unsure about where to begin and how we can take effective action. That’s why DVRCV has tailored a course just for you!\n\nOur new ‘Intro to PVAW’ course provides the ideal jumpstart for anyone interested in commencing a career in this sector. Our course cuts through the jargon leaving you with the confidence\, knowledge and tools to either kick start your prevention career\, or play a more active role in your professional and personal life to help end violence against women.  \n\nIf this course sparks your interest or that of your colleagues\, we invite you to join us to build this important movement together!\n\n \nWhat you will learn\n \n\n\n	The facts: the evidence\, nature\, prevalence and impact of violence against women\n	Key terms and definitions on violence against women\, family violence and gender drivers\n	Myths and facts on the drivers of violence against women\n	How violence against women and gender inequality are related\n	The difference between primary\, secondary and tertiary responses to violence against women\n	How to manage resistance\, wellbeing and reflective practice\n	How best practice actions and approaches to reduce violence against women \n\n \n\nWho this training is for\n \n\n\n	Professionals or anyone new to the prevention of violence against women.\n	Anyone keen to increase their understanding of violence against women and confidence to take action to prevent it\n	New team members and colleagues of experienced prevention practitioners\n	You do not need any previous experience to attend. If you want to develop your skills in project planning\, advocacy and communication\, we recommend you do our three-day Prevention in Practice course here.\n\n\nOur Preventing Violence Against Women (PVAW) – Fundamentals course is based on recognised industry standards as outlined in the Preventing Family Violence and Violence Against Women Capability Framework. \n \n \nNote\n\nIntroduction to Preventing Violence Against Women (PVAW) – foundation course is based on recognised industry standards as outlined in the Preventing Family Violence and Violence Against Women Capability Framework. It includes a range of interactive activities and evidence-based resources\, and provides opportunities for participants to share ideas\, ask questions\, engage in reflective practice and learn from one other.\n \nAs an introductory course\, you do not need any previous experience to attend. For those wanting to develop your skills in project planning\, advocacy and communication\, we recommend you do our three-day foundational course link here.\n\n \nCost\n\n$365 (Full-Fee\, no GST)\n$155 (Partners in Prevention members and SHS funded workers)\n\nIf you’re just signing up to the Partners in Prevention Network while you register for this training\, please get in contact with the DVRCV training team on 83465266 to organise your discount. \nEnquire \n  \n\nUpcoming Workshops\n\n\nName\nDate\nTime\nLocation\nAvailable Spaces\nCost\n\n\n\n\n\n\n\nIntroduction to Preventing Violence Against Women (PVAW) – foundation course - CBD - 16 April 2020\n16 April 2020\n09:30 am - 04:30 pm\nCBD\n19\n$365.00\nEnrol\nAdd To Cart\n\n\n \n\n\n
URL:https://training.dvrcv.org.au/event/introduction-to-preventing-violence-against-women-pvaw-foundation-course-cbd-16-april-2020/
LOCATION:CBD\, CBD\, Australia
CATEGORIES:Workshop
END:VEVENT
END:VCALENDAR