BEGIN:VCALENDAR
VERSION:2.0
PRODID:-//DVRCV Training - ECPv4.9.12//NONSGML v1.0//EN
CALSCALE:GREGORIAN
METHOD:PUBLISH
X-WR-CALNAME:DVRCV Training
X-ORIGINAL-URL:https://training.dvrcv.org.au
X-WR-CALDESC:Events for DVRCV Training
BEGIN:VTIMEZONE
TZID:Australia/Melbourne
BEGIN:STANDARD
TZOFFSETFROM:+1100
TZOFFSETTO:+1000
TZNAME:AEST
DTSTART:20200404T160000
END:STANDARD
BEGIN:DAYLIGHT
TZOFFSETFROM:+1000
TZOFFSETTO:+1100
TZNAME:AEDT
DTSTART:20201003T160000
END:DAYLIGHT
END:VTIMEZONE
BEGIN:VEVENT
DTSTART;TZID=Australia/Melbourne:20200513T093000
DTEND;TZID=Australia/Melbourne:20200513T163000
DTSTAMP:20200226T130121
CREATED:20200213T063447Z
LAST-MODIFIED:20200213T063447Z
UID:1668-1589362200-1589387400@training.dvrcv.org.au
SUMMARY:Case Notes\, Family Violence and the Law - CBD - 13 May 2020
DESCRIPTION: jQuery(function($){ $(".ax-course-details").find("div:empty").hide();jQuery(".ax-course-details").find("div > h2").closest("div").addClass("no-content").find("*:not(h2)\, div").parent("div").removeClass("no-content");jQuery("div.no-content").hide(); }); \nCase Notes\, Family Violence and the Law\nCAL-CNFVL\n \n\n\n\nWith the rapidly-changing family violence sector and new legislation\, it’s never been a better time to learn about case notes or to have a refresher. In this full-day training\, you will learn best practices for the structure\, style and language of case notes\, and develop your knowledge about how to respond to subpoenas\, appearing as a witness in court\, privacy and legal issues.\n\nIntroduction\nWith the rapidly-changing family violence sector and new legislation\, it’s never been a better time to learn about case notes or to have a refresher. In this full-day training\, you will learn best practices for the structure\, style and language of case notes\, and develop your knowledge about how to respond to subpoenas\, appearing as a witness in court\, privacy and legal issues.\n\nThis training is delivered in partnership with Women’s Legal Service Victoria. Women’s Legal Service Victoria provides legal advice and representation to women experiencing disadvantage\, advocates for law and policy that respects and promotes the rights of women. WLSV is the state-wide provider of family violence legal education\, training and professional development. \n\nWhat will I learn?\n\n\n	The purpose of case notes\n	What information is recorded\n	Guidelines for the structure and style of case notes specific to family violence work\n	Documenting risk\n	Privacy\, confidentiality and legal issues\n	Subpoenas and how to respond to them\n	How to appear as a witness in court\n\n\nWho is this training for?\n\nFamily violence specialist practitioners and leaders. \n\nWhat past participants say:\n\n“Comprehensive\, easy to understand and gave me greater confidence in my role when writing case notes.” \n\n“Very informative… would recommend this to all caseworkers and people writing case notes.” \n\nCost: \n\n$155 SHS (Specialist Homelessness Service) funded workers\n$380 Non SHS (Specialist Homelessness Service) funded workers\n\nSHS or Specialist Homelessness Services provides funding support to most family violence and housing/homelessness services. If you are unsure about your SHS status\, please check with your organisations Finance Officer or Administration Coordinator. \n \nEnquire \n  \n\nUpcoming Workshops\n\n\nName\nDate\nTime\nLocation\nAvailable Spaces\nCost\n\n\n\n\n\n\n\nCase Notes\, Family Violence and the Law - CBD - 13 May 2020\n13 May 2020\n09:30 am - 04:30 pm\nCBD\n6\n$380.00\nEnrol\nAdd To Cart\n\n\n \n\n\n
URL:https://training.dvrcv.org.au/event/case-notes-family-violence-and-the-law-cbd-13-may-2020/
LOCATION:CBD\, CBD\, Australia
CATEGORIES:Workshop
END:VEVENT
END:VCALENDAR