BEGIN:VCALENDAR
VERSION:2.0
PRODID:-//DVRCV Training - ECPv4.9.12//NONSGML v1.0//EN
CALSCALE:GREGORIAN
METHOD:PUBLISH
X-WR-CALNAME:DVRCV Training
X-ORIGINAL-URL:https://training.dvrcv.org.au
X-WR-CALDESC:Events for DVRCV Training
BEGIN:VTIMEZONE
TZID:Australia/Melbourne
BEGIN:STANDARD
TZOFFSETFROM:+1100
TZOFFSETTO:+1000
TZNAME:AEST
DTSTART:20200404T160000
END:STANDARD
BEGIN:DAYLIGHT
TZOFFSETFROM:+1000
TZOFFSETTO:+1100
TZNAME:AEDT
DTSTART:20201003T160000
END:DAYLIGHT
END:VTIMEZONE
BEGIN:VEVENT
DTSTART;TZID=Australia/Melbourne:20200422T093000
DTEND;TZID=Australia/Melbourne:20200422T163000
DTSTAMP:20200226T121632
CREATED:20200213T063450Z
LAST-MODIFIED:20200213T063450Z
UID:1673-1587547800-1587573000@training.dvrcv.org.au
SUMMARY:CHCDFV001 Recognise and respond appropriately to domestic and family violence - CBD - 22\, 23\, 29\, 30 April 2020
DESCRIPTION: jQuery(function($){ $(".ax-course-details").find("div:empty").hide();jQuery(".ax-course-details").find("div > h2").closest("div").addClass("no-content").find("*:not(h2)\, div").parent("div").removeClass("no-content");jQuery("div.no-content").hide(); }); \nCHCDFV001 Recognise and respond appropriately to domestic and family violence\nACC-RRATFV\n \n\n\n\nThis four-day accredited course will give you the essential knowledge\, skills and understanding to work effectively with women and their children affected by family violence. You will have opportunities to reflect on your practice\, and build on your knowledge and skills with current research and evidence.\n\nIntroduction\nThis four-day course will give you the essential knowledge\, skills and understanding to work effectively with women and their children affected by family violence. You will have opportunities to reflect on your practice\, and build on your knowledge and skills with current research and evidence. \n\nOn successful completion of assessment tasks\, participants will receive a Statement of Attainment for the nationally accredited unit: CHCDFV001 Recognise and respond appropriately to domestic and family violence.\n\nPlease note\, CHCDFV001 Recognise and respond appropriately to domestic and family violence training should not be used as a replacement for MARAM specific training modules. Please see here for details about MARAM training modules available. \n\n\nWho is this training for?\n\n\n	New workers in family violence services and workers in community\, health or legal services who have limited experience responding to family violence.\n	 \n	New and existing family violence specialist workers. Workers may come from a wide range of interdisciplinary backgrounds\, workplace contexts and experience working with the client group.\n\n\n\nPathways\nParticipants may use this elective unit as part of a stand-alone qualification from either the Community or Health training package.\n \n\nPre-requisites\nThere are no specified pre-requisites for this unit.\n \n\nEntry Requirements\nDVRCV require participants who undertake this course to:\n\n\n	Be aged 18 years or over.\n	Have language\, literacy and numeracy skills to read and comprehend learning materials and perform tasks related to applying work place practices including using interpersonal skills with clients\, questioning\, active listening and rapport building\, completing accurate and comprehensive records\, reports safety and referral information forms.\n\n \nLanguage\, literacy and numeracy requirements\nDVRCV needs to determine the support needs of participants undertaking this unit so that participants can meet the requirements of the course they are enrolled in. The participants undertaking this unit require well developed language\, literacy and numeracy (LLN) skills relevant to the context of their role within their workplace. The applicant’s LLN skills will be evaluated during the enrolment process to ensure participants enrolling in the program have the skills to complete all training and assessment.\n \nWhere additional support needs have been identified an Individual Support Plan will be developed which may include:\n\n	the suitability of the course\n	any special physical or cultural requirements for the course\n	reasonable adjustments that can be made\n	support that is available including:\n	Information about language\, literacy and numeracy (LLN) programs\n	Where possible\, the provision of equipment\, resources and/or programs to increase access for learners with disabilities and other learners in accordance with access and equity principles\n	Use of trained support staff including specialist teachers\, note-takers and interpreters\n	Flexible scheduling and delivery of assessment\n\n \nProvision of additional support services will be provided where necessary to enable students to participate in the same way as any other person regardless of whether support services have been required.\n\n \nDelivery and Duration\nThis course consists of 4 days face-to-face training (7 hours per day\, over 2 days per week\, for 2 weeks) plus 15 hours of self-paced learning. Participants are given 1 month after the 4th day of the course to complete their self-paced learning and complete the assessments.\n \nFace-to-face delivery includes:\n\n	Question and answer sessions\n	Lectures\n	Demonstration\n	Presentations\n	Written worksheet activities\n	Discussions\n	Simulated practice activities\n	Power point presentations \n	Individual teacher feedback and consultations\n	In addition the learners are provided with textbooks for reference material\n	Video clips\n	Small group discussions\n	Small group role play/interactive activities\n	Industry expert presentation (guest speaker)\n\n \n\nWhat will I learn?\n\nDay 1\n\nThe dimensions of family violence\, how it is created within our society\, the impacts and barriers\, family violence theories and practice frameworks. \n\nDay 2\n\nBest practice approaches\, indicators of family violence\, responding to a disclosure\, applying effective engagement skills\, application of foundational knowledge and engagement skills in a practice session\, ethics and values. \n\nDay 3\n\nRisk assessment and risk management in practice in line with family violence work practices\, an introduction to the Multi-Agency Risk Assessment and Management Framework (MARAM)\, legislation\, policies and procedures\, preparation and application of assessment task 2 at the end of the day. \n\nDay 4\n\nPreparation and application of assessment task 2 at the beginning of the day\, crisis and case management work\, incorporating safety planning\, appropriate referrals\, working collaboratively with other services and record management\, and worker wellbeing. \n\n\nAssessment Arrangements\nAssessment will be conducted individually. You will be provided with an Assessment Booklet which includes:\n \n\n	A full description of all assessment tasks for the unit of competency\n	Assessment instructions for each unit of competency\n	Assessment resources for each unit of competency\n	Details about assessment submission\n\n \nThe assessments for CHCDFV001 Recognise and respond appropriately to domestic and family violence uses a holistic method of assessment including assessor observation\, simulated practice sessions\, use of workplace documentation\, reflective practice and direct questioning. This allows the assessment of multiple skills and knowledge integrated into simulated workplace tasks and performances where possible. Holistic assessment also recognises the assessment of skills and knowledge in the sequence as they would normally be performed in the workplace.\n \nAll assessment tasks are assessed by the assessor and then handed back to the participant with feedback. This allows the participant to monitor their progress and re-submit assessments as required.\n\n\nRecognition of Prior Learning (RPL)\nRPL is an assessment process that assesses the competency(s) of an individual that may have been acquired through formal\, non-formal and informal learning to determine the extent to which that individual meets the requirements specified in the training package of VET accredited courses.\n \nRecognition of Prior Learning (RPL) is available and all participants have the opportunity to participate in RPL. Recognition of Prior Learning is generally recommended where individuals have been working in a relevant job role\, however any participant can also self-elect to undertake RPL.\nPlease contact training@dvrcv.org.au for more information.\n \n\nWhat past participants say\n\n“Our staff described it as the best training they had ever attended. They loved the content and appreciated the feedback on their practice skills. They want to do it again on a regular basis and think it should be compulsory for all new workers within their first six months of employment.” \n\n“Presenters were extremely knowledgeable.” \n\n“I have really enjoyed myself. I have found it very enlightening and informative.” \n\n\nCost\n\n$595 SHS (Specialist Homelessness Service) funded worker\n$1495 Non SHS (Specialist Homelessness Service) funded worker\n  \n\nSHS or Specialist Homelessness Services provides funding support to most family violence and housing/homelessness services. If you are unsure about your SHS status\, please check with your organisations Finance Officer or Administration Coordinator.\n\nThese costs are inclusive of all course\, administration and materials fees. For more information\, please read our Fees and Refunds Policy here.\n  \n\n\nHow to Apply\n\nPlease register your interest into this course by selecting ‘enrol’ next to your preferred date below. Once we have received your tentative registration\, we will be in touch to confirm the enrolment process.\n \nIf you would like to discuss this course in more detail\, please call us for a confidential discussion on (03) 8346 5266.\n\n  \n\nFurther Information\nPrivacy Policy\nFees and Refunds Policy\nComplaints and Appeals Policy\nAQF Certification Policy \nEnquire \n  \n\nUpcoming Workshops\n\n\nName\nDate\nTime\nLocation\nAvailable Spaces\nCost\n\n\n\n\n\n\n\nCHCDFV001 Recognise and respond appropriately to domestic and family violence - CBD - 22\, 23\, 29\, 30 April 2020\n22 April 2020\n09:30 am - 04:30 pm\nCBD Saxons\n0\n$1\,495.00\nFully Booked\nFully Booked\n\n\n \n\n\n
URL:https://training.dvrcv.org.au/event/chcdfv001-recognise-and-respond-appropriately-to-domestic-and-family-violence-cbd-22-23-29-30-april-2020/
LOCATION:CBD Saxons\, CBD Saxons\, Australia
CATEGORIES:Workshop
END:VEVENT
END:VCALENDAR